BEGIN:VCALENDAR
VERSION:2.0
PRODID:-//Feng Shui - ECPv6.15.19//NONSGML v1.0//EN
CALSCALE:GREGORIAN
METHOD:PUBLISH
X-ORIGINAL-URL:https://fengshuiyuanbambu.com
X-WR-CALDESC:Eventos para Feng Shui
REFRESH-INTERVAL;VALUE=DURATION:PT1H
X-Robots-Tag:noindex
X-PUBLISHED-TTL:PT1H
BEGIN:VTIMEZONE
TZID:Europe/Madrid
BEGIN:DAYLIGHT
TZOFFSETFROM:+0100
TZOFFSETTO:+0200
TZNAME:CEST
DTSTART:20250330T010000
END:DAYLIGHT
BEGIN:STANDARD
TZOFFSETFROM:+0200
TZOFFSETTO:+0100
TZNAME:CET
DTSTART:20251026T010000
END:STANDARD
BEGIN:DAYLIGHT
TZOFFSETFROM:+0100
TZOFFSETTO:+0200
TZNAME:CEST
DTSTART:20260329T010000
END:DAYLIGHT
BEGIN:STANDARD
TZOFFSETFROM:+0200
TZOFFSETTO:+0100
TZNAME:CET
DTSTART:20261025T010000
END:STANDARD
BEGIN:DAYLIGHT
TZOFFSETFROM:+0100
TZOFFSETTO:+0200
TZNAME:CEST
DTSTART:20270328T010000
END:DAYLIGHT
BEGIN:STANDARD
TZOFFSETFROM:+0200
TZOFFSETTO:+0100
TZNAME:CET
DTSTART:20271031T010000
END:STANDARD
END:VTIMEZONE
BEGIN:VEVENT
DTSTART;TZID=Europe/Madrid:20260207T103000
DTEND;TZID=Europe/Madrid:20260207T133000
DTSTAMP:20260422T110957
CREATED:20251120T110407Z
LAST-MODIFIED:20251120T112500Z
UID:4610-1770460200-1770471000@fengshuiyuanbambu.com
SUMMARY:CHARLA YUAN ONLINE MADRID 2026
DESCRIPTION:¡¡ Bienvenido al Año del Caballo de Fuego 2026 !! \nUn año para avanzar\, decidir y renacer. \nActiva tu energía con Feng Shui\, conecta tu \ndestino con el I Ching y realiza tu ritual de \napertura para llamar Fortuna\, claridad \ny protección. \n..Que el Fuego te impulse y el camino se abra.. \n¡Me encantaría verte… y contártelo en persona!. \n  \nAdemás realizaremos la Tirada de I Ching para ver como estara España y el Mundo \nNo te lo puedes perder\, te espero… \n  \nImporte de la entrada ONLINE 20€\n  \nPINCHA EN EL BOTÓN ROJO PARA ADQUIRIR TU ENTRADA. \nuna vez dentro de la plataforma de compra\, pincha en RESERVAS\, luego busca FEBRERO y pincha en día 7\, \nrecibirás un justificante de compra y un  link de la plataforma ZOOM para el acceso al evento en tu correo \neste enlace se activará 30 minutos antes del comienzo del evento \nmuchas gracias. \n\nCOMPRA AQUÍ TU ENTRADA
URL:https://fengshuiyuanbambu.com/event/charla-yuan-online-madrid-2026/
LOCATION:FUNDACION BUDISTA JARDIN DE LA COMPASION\, Calle Vicenta Villegas 27\,\, madrid\, madrid\, 28047\, Spain
CATEGORIES:ACTIVIDADES,FENG SHUI,I CHING,VIAJES
ATTACH;FMTTYPE=image/jpeg:https://fengshuiyuanbambu.com/wp-content/uploads/2025/11/imagen2-jpg.jpg
END:VEVENT
BEGIN:VEVENT
DTSTART;TZID=Europe/Madrid:20260207T103000
DTEND;TZID=Europe/Madrid:20260207T133000
DTSTAMP:20260422T110957
CREATED:20251120T105146Z
LAST-MODIFIED:20251120T112605Z
UID:4605-1770460200-1770471000@fengshuiyuanbambu.com
SUMMARY:CHARLA YUAN PRESENCIAL MADRID 2026
DESCRIPTION:¡¡ Bienvenido al Año del Caballo de Fuego 2026 !! \nUn año para avanzar\, decidir y renacer. \nActiva tu energía con Feng Shui\, conecta tu \ndestino con el I Ching y realiza tu ritual de \napertura para llamar Fortuna\, claridad \ny protección. \n..Que el Fuego te impulse y el camino se abra.. \n¡Me encantaría verte… y contártelo en persona!. \n  \nAdemás realizaremos la Tirada de I Ching para ver como estara España y el Mundo \npuedes traer el plano de tu casa para ser analizado y solo por tu presencia recibirás un bonito regalo. \nNo te lo puedes perder\, te espero… \n  \nImporte de la entrada presencial 30€\n  \nPINCHA EN EL BOTÓN ROJO PARA ADQUIRIR TU ENTRADA. \nuna vez dentro de la plataforma de compra\, pincha en RESERVAS\, luego busca FEBRERO y pincha en día 7\, \nrecibirás un justificante de compra y acceso al evento en tu correo..muchas gracias \n\nCOMPRA AQUÍ TU ENTRADA
URL:https://fengshuiyuanbambu.com/event/charla-fengshui-madrid-2026/
LOCATION:FUNDACION BUDISTA JARDIN DE LA COMPASION\, Calle Vicenta Villegas 27\,\, madrid\, madrid\, 28047\, Spain
CATEGORIES:ACTIVIDADES,FENG SHUI,I CHING
ATTACH;FMTTYPE=image/jpeg:https://fengshuiyuanbambu.com/wp-content/uploads/2025/11/imagen2-jpg.jpg
END:VEVENT
BEGIN:VEVENT
DTSTART;TZID=Europe/Madrid:20260131T103000
DTEND;TZID=Europe/Madrid:20260131T133000
DTSTAMP:20260422T110957
CREATED:20251120T111240Z
LAST-MODIFIED:20251120T112632Z
UID:4613-1769855400-1769866200@fengshuiyuanbambu.com
SUMMARY:CHARLA YUAN PRESENCIAL BARCELONA
DESCRIPTION:¡¡ Bienvenido al Año del Caballo de Fuego 2026 !! \nUn año para avanzar\, decidir y renacer. \nActiva tu energía con Feng Shui\, conecta tu \ndestino con el I Ching y realiza tu ritual de \napertura para llamar Fortuna\, claridad \ny protección. \n..Que el Fuego te impulse y el camino se abra.. \n¡Me encantaría verte… y contártelo en persona!. \n  \npuedes traer el plano de tu casa para ser analizado y solo por tu presencia recibirás un bonito regalo. \nNo te lo puedes perder\, te espero… \n  \nImporte de la entrada presencial 15€\n  \nPINCHA EN EL BOTÓN ROJO PARA ADQUIRIR TU ENTRADA. \nuna vez dentro de la plataforma de compra\, pincha en RESERVAS\, luego busca ENERO y pincha en día 31\, \nrecibirás un justificante de compra y acceso al evento en tu correo..muchas gracias \n\nCOMPRA AQUÍ TU ENTRADA
URL:https://fengshuiyuanbambu.com/event/charla-yuan-presencial-barcelona/
LOCATION:CASA DEL TIBET BARCELONA\, c/ Rosselló 181\, barcelona\, barcelona\, 08036\, Spain
ATTACH;FMTTYPE=image/jpeg:https://fengshuiyuanbambu.com/wp-content/uploads/2025/11/imagen2-jpg.jpg
END:VEVENT
END:VCALENDAR